BEGIN:VCALENDAR
VERSION:2.0
PRODID:-//Library Market//iCal Export//EN
BEGIN:VEVENT
SUMMARY:Board of Trustees Meeting
UID:33541
DTSTAMP:20260420T070500Z
DTSTART:20270113T000000Z
DTEND:20270113T014500Z
LOCATION:Clark Public Library, 303 Westfield Ave, Clark, NJ 07066, United 
 States
ROOM: Board of Trustees Meeting
DESCRIPTION:Board of Trustees Meeting
URL:https://clarkpl.librarycalendar.com/event/board-trustees-meeting-33541
END:VEVENT
END:VCALENDAR
