BEGIN:VCALENDAR
VERSION:2.0
PRODID:-//Library Market//iCal Export//EN
BEGIN:VEVENT
SUMMARY:Free Beginner ESL Class
UID:33443
DTSTAMP:20260424T161800Z
DTSTART:20260613T160000Z
DTEND:20260613T180000Z
LOCATION:Clark Public Library, 303 Westfield Ave, Clark, NJ 07066, United 
 States
ROOM: Board Room
DESCRIPTION:Join us for this hybrid beginner ESL class on Saturdays beginn
 ing May 9 and running through July 11. Students participate at the Clark P
 ublic Library with instruction provided by the Plainfield Public Library v
 ia Zoom. Registration required. 
URL:https://clarkpl.librarycalendar.com/event/free-beginner-esl-class-3344
 3
END:VEVENT
END:VCALENDAR
