BEGIN:VCALENDAR
VERSION:2.0
PRODID:-//Library Market//iCal Export//EN
BEGIN:VEVENT
SUMMARY:Free Beginner ESL Class
UID:33438
DTSTAMP:20260424T093000Z
DTSTART:20260509T160000Z
DTEND:20260509T180000Z
LOCATION:Clark Public Library, 303 Westfield Ave, Clark, NJ 07066, United 
 States
ROOM: Board Room
DESCRIPTION:Join us for this hybrid beginner ESL class on Saturdays beginn
 ing May 9 and running through July 11. Students participate at the Clark P
 ublic Library with instruction provided by the Plainfield Public Library v
 ia Zoom. Registration required. 
URL:https://clarkpl.librarycalendar.com/index.php/event/free-beginner-esl-
 class-33438
END:VEVENT
END:VCALENDAR
