BEGIN:VCALENDAR
VERSION:2.0
PRODID:-//Library Market//iCal Export//EN
BEGIN:VEVENT
SUMMARY:Friends of Library Book Sale Setup
UID:33329
DTSTAMP:20260422T082500Z
DTSTART:20260504T040000Z
DTEND:20260504T040000Z
LOCATION:Clark Public Library, 303 Westfield Ave, Clark, NJ 07066, United 
 States
ROOM: Community Room
DESCRIPTION:
URL:https://clarkpl.librarycalendar.com/index.php/event/friends-library-bo
 ok-sale-setup-33329
END:VEVENT
END:VCALENDAR
